BEGIN:VCALENDAR
CALSCALE:GREGORIAN
VERSION:2.0
PRODID:-//Elixir ICalendar//Mobilizon 5.1.5//EN
BEGIN:VEVENT
CATEGORIES:datenschutz,endof10,fediverse,Privatsphäre,digitale selbstverteidigung,firefox,digitale unabhängigkeit,cookies
DESCRIPTION:Let`s DID it! - zurück in der c-base! \n\n\n\nAm ersten Sonntag des Monats auf die gute Seite wechseln!\n\n\n\nWir unterstützen dich dabei\, deine digitale Autonomie zurückzugewinnen. Gemeinsam und Schritt für Schritt. Ob von X zu Mastodon\, von Google Chrome zu Firefox – wir helfen dir beim Wechsel!\n\n\n\nWarum nicht einen Email-Dienst mit mehr Privatsphäre probieren? Oder magst du bei einem Kaffee einfach mehr über andere digitale Alternativen erfahren\, die unsere Demokratie stärken statt sie zu zerstören? Alternativen\, die uns allen eine nachhaltige und selbstbestimmte Teilhabe sichern?\n\n\n\nDann lass uns zusammen loslegen!\n\n\n\nAm \n\n    Sonntag\, 03. Mai 2026\n\n    von 14 bis 18 Uhr\n\n    \n\nfreuen wir uns auf dich in der\n\n    c-base\n\n    Rungestraße 20\, 10179 Berlin\n\n\n\nEs gibt Tee\, Kaffee\, Snacks und natürlich Cookies. Lasst uns etwas für unsere digitale Unabhängigkeit tun! Kostenlos\, auch ohne Vorkenntnisse. Bring aber gern deine Endgeräte mit.\n\n\n\nDer Zugang und der Raum sind barrierefrei.\n\n\n\nWieder mit dabei sind als Gastgeber der Hackspace c-base\, das Projekt Digital-Zebra (VÖBB)\, Topio\, der kleindatenverein \, Anoxinon e.V.\, Computertruhe e.V. und der Möckernkiez e.V. . \n\n\n\nSchaut aber auch gerne bei der Veranstaltung vom Chaos Computer Club Berlin e.V. und dem xHain hack+makespace vorbei\, sowie beim DI.day Spezial im Stadtschloss Moabit des Kleindatenvereins am Samstag\, den 02. Mai 2026. \n\n\n\nGemeinsam mehr erreichen\n\n\n\nDiese Veranstaltung ist Teil eines Netzwerks aus mehreren Organisationen und Initiativen in Berlin. Wir unterstützen uns gegenseitig mit Kompetenz\, Erfahrung und praktischer Hilfe. Uns alle eint der Wunsch\, Wissen zu teilen\, voneinander zu lernen und solidarisch zusammenzuarbeiten.\n\n\n\nDer DI.Day bildet dabei den gemeinsamen Rahmen\, in dem wir uns für digitale Selbstbestimmung und nachhaltige digitale Strukturen einsetzen.\n\nSchau deshalb gern auch bei den Veranstaltungen der anderen beteiligten Organisationen vorbei. So entsteht ein vielfältiges Angebot\, das Austausch\, Vernetzung und gegenseitige Unterstützung lebendig macht.\n\n
DTEND;TZID=Europe/Berlin:20260503T180000
DTSTAMP:20260425T010919Z
DTSTART;TZID=Europe/Berlin:20260503T140000
GEO:52.5129735;13.4201313
LOCATION:c-base 20 Rungestraße 10179 Berlin  Germany
ORGANIZER:c-base
STATUS:CONFIRMED
SUMMARY:Let's DID it - zurück in der c-base
UID:0f47895d-0c2c-4e66-a07c-6df51bfa2637
URL:https://f.termine.di.day/events/0f47895d-0c2c-4e66-a07c-6df51bfa2637
END:VEVENT
BEGIN:VEVENT
CATEGORIES:Privatsphäre,fediverse,endof10,datenschutz,digitale selbstverteidigung,digitale unabhängigkeit,Linux,cryptoparty
DESCRIPTION:Die Penguin Padlock Party ist ein regelmäßig stattfindender Stammtisch jeden dritten Donnerstag im Monat ab 19:00 Uhr auf der c‑base . Sie richtet sich an alle\, die sich für freie Software\, Datenschutz und digitale Sicherheit interessieren.\n\n\n\nIm Mittelpunkt steht die Unterstützung beim Wechsel von Windows auf Linux‑Distributionen – aber die Veranstaltung ist keine reine Linux‑Sprechstunde. Vielmehr bietet sie eine Plattform\, um Erfahrungen auszutauschen\, voneinander zu lernen und gemeinsam Lösungen zu finden.\n\nEin wesentlicher Teil der Penguin Padlock Party ist die Cryptoparty‑Komponente: Besucher*innen erfahren\, wie sie sich mit geeigneten Tools und Strategien vor digitaler Überwachung schützen können. Dabei werden nicht nur freie und offene Technologien vorgestellt\, sondern auch kommerzielle Lösungen\, sofern sie zum Schutz der Privatsphäre beitragen.\n\n\n\nDie Penguin Padlock Party verbindet technische Hilfe\, Wissensaustausch und Bewusstseinsbildung zu Themen wie Datenschutz\, Datensicherheit und Datensparsamkeit – in einer offenen und kollegialen Atmosphäre.\n\n\n\nEs sind keine Vorkenntnisse notwendig.\n\n\n\nWeitere Informationen unter: https://penguinpadlock.party/\n\n
DTEND;TZID=Europe/Berlin:20260515T220000
DTSTAMP:20260425T010919Z
DTSTART;TZID=Europe/Berlin:20260515T190000
GEO:52.5127217;13.4199215
LOCATION:c-base 20 Rungestraße 10179 Berlin  Germany
ORGANIZER:c-base
STATUS:CONFIRMED
SUMMARY:Penguin Padlock Party @ c-base
UID:9030d3f4-53ab-454d-9411-9ab3b8511515
URL:https://f.termine.di.day/events/9030d3f4-53ab-454d-9411-9ab3b8511515
END:VEVENT
END:VCALENDAR
